BEGIN:VCALENDAR
VERSION:2.0
PRODID:icalendar-ruby
CALSCALE:GREGORIAN
METHOD:PUBLISH
BEGIN:VEVENT
DTSTAMP:20260424T081431Z
UID:112-668941@unityofthewoodlands.org
DTSTART:20260426T163000Z
DTEND:20260426T180000Z
CLASS:PUBLIC
CREATED:20260410T221743
DESCRIPTION:Two Women.\nTake on all the emotional problems anyone has ever 
 had...\nLike detectives ready to solve crime.\nFrom bad dates to bad outfi
 ts...\nThey are your answer to a brighter future!
LAST-MODIFIED:20260410T221743
LOCATION:
SUMMARY:Bulletproof - Mavis & Myrtle 
URL;VALUE=URI:https://unityofthewoodlands.org/events/bulletproof-mavis-myrt
 le/2026-04-26
ATTACH;FILENAME=Image.jpg;FMTTYPE=image/jpeg:https://dq5pwpg1q8ru0.cloudfro
 nt.net/2026/04/11/03/09/22/ffca6904-4026-461f-95c9-4fa73b7ce91a/Image.jpg
END:VEVENT
END:VCALENDAR
