BEGIN:VCALENDAR
VERSION:2.0
PRODID:icalendar-ruby
CALSCALE:GREGORIAN
METHOD:PUBLISH
BEGIN:VEVENT
DTSTAMP:20260421T105224Z
UID:98-697328@unityofthewoodlands.org
DTSTART:20260423T230000Z
DTEND:20260424T003000Z
CLASS:PUBLIC
CREATED:20260418T225448
DESCRIPTION:\n\n\n\n\n\n\n\nJoin us for a Death Café—a relaxed and respe
 ctful gathering where people come together to talk openly about death\, me
 aning\, and what truly matters in life. This is not a lecture or a support
  group\, but a welcoming space for thoughtful conversation\, listening\, a
 nd reflection. There’s no agenda and no pressure—just community\, tea\
 , coffee\, baked goods\, and honest dialogue.\nFacilitated by trained end-
 of-life doulas Merideth Regina and Judy Van Norman\, Death Café is held e
 very second Sunday from 11:45 AM to 1:15 PM and every fourth Thursday from
  6 PM - to 7:30 PM. All are welcome.\nShould you like more information\, p
 lease email: \nJudy Van Norman jfvannorman@gmail.com or\, Meredith Regin
 a Merideth.Regina5@gmail.com\n\n\n\n\n\n\n\n
LAST-MODIFIED:20260418T225448
LOCATION:
SUMMARY:Death Café
URL;VALUE=URI:https://unityofthewoodlands.org/events/death-cafe/2026-04-23
ATTACH;FILENAME=Death-Cafe-1.png;FMTTYPE=image/png:https://dq5pwpg1q8ru0.cl
 oudfront.net/2026/04/19/03/54/47/d8983881-d4e3-4e3c-8f12-83274a359cca/Deat
 h-Cafe-1.png
END:VEVENT
END:VCALENDAR
