BEGIN:VCALENDAR
VERSION:2.0
PRODID:icalendar-ruby
CALSCALE:GREGORIAN
METHOD:PUBLISH
BEGIN:VEVENT
DTSTAMP:20260421T183148Z
UID:14-706797@unityofthewoodlands.org
DTSTART:20261011T141500Z
DTEND:20261011T151500Z
CLASS:PUBLIC
CREATED:20260421T120326
DESCRIPTION:\nThe Sunday Book Study will be starting THE FIFTH SEASON by Ma
 rk Nepo on March\n22. “With the wisdom of one who has real soul awarenes
 s\, Mark calls to the creativity\nthat is within all of us.” He tackles 
 the question of “WHAT DOES IT MEAN TO AGE?\,\nand how to do so with crea
 tivity. “Whatever your age\, if living fully into the gift of life is\ny
 our hope” join us on Sunday morning at 9:15. All that are aging are welc
 ome\, with or\nwithout the book.\n
LAST-MODIFIED:20260421T120326
LOCATION:
SUMMARY:Sunday Book Study with Lorri Strong
URL;VALUE=URI:https://unityofthewoodlands.org/events/sunday-book-study-with
 -lorri-strong/2026-10-11
ATTACH;FILENAME=Sunday-service-powerpoint-9.png;FMTTYPE=image/png:https://d
 q5pwpg1q8ru0.cloudfront.net/2026/03/06/23/35/42/eff03565-67d1-47ed-952d-7e
 78e5af8213/Sunday-service-powerpoint-9.png
END:VEVENT
END:VCALENDAR
