BEGIN:VCALENDAR
VERSION:2.0
PRODID:icalendar-ruby
CALSCALE:GREGORIAN
METHOD:PUBLISH
BEGIN:VEVENT
DTSTAMP:20260421T182028Z
UID:15-706911@unityofthewoodlands.org
DTSTART:20261011T153000Z
DTEND:20261011T163000Z
CLASS:PUBLIC
CREATED:20260421T120326
DESCRIPTION:Join us in the sanctuary this Sunday at 10:30 a.m. or join us o
 n Facebook Live. Rev. Sonja\, our music team\, and our production team wil
 l be together to share a heartfelt\, inspiring service that speaks to the 
 soul and lifts the spirit. We look forward to being with you — whether i
 n person or online.\nYou’re also invited to support the Interfaith Food 
 Pantry by bringing non-perishable food items or monetary donations each Su
 nday and placing them in our collection container\, helping us care for th
 ose in need in our community.
LAST-MODIFIED:20260421T120326
LOCATION:
SUMMARY:Sunday Service
URL;VALUE=URI:https://unityofthewoodlands.org/events/sunday-service/2026-10
 -11
ATTACH;FILENAME=Radical-Forgiveness-Powerpoint.png;FMTTYPE=image/png:https:
 //dq5pwpg1q8ru0.cloudfront.net/2026/04/10/22/43/00/395a6e22-3470-41c5-acf8
 -9905f5a6eaa7/Radical-Forgiveness-Powerpoint.png
ATTACH;FILENAME=Radical-Forgiveness-SS-Powerpoint.png;FMTTYPE=image/png:htt
 ps://dq5pwpg1q8ru0.cloudfront.net/2026/04/10/22/53/29/dca2a797-3ddf-4eaa-9
 4aa-0e439c5d3053/Radical-Forgiveness-SS-Powerpoint.png
END:VEVENT
END:VCALENDAR
